BEGIN:VCALENDAR
VERSION:2.0
PRODID:-//Tukios.com/
BEGIN:VEVENT
UID:ae83022f-dc82-421e-863d-1b03a0912e66@www.andrascrematory.com
DTSTAMP:20260425T013217Z
DTSTART:20260503T160000Z
DTEND:20260503T180000Z
SUMMARY:Celebration of Life
DESCRIPTION:
URL:https://www.andrascrematory.com/obituaries/sibyl-bailey
LOCATION:Andras Crematory & Funeral Home 3900 Broadway  Lorain OH 44052
GEO:41.4339219;-82.163737
END:VEVENT
END:VCALENDAR